BEGIN:VCALENDAR
VERSION:2.0
PRODID:-//Kreissportbund Osterholz - ECPv6.15.11//NONSGML v1.0//EN
CALSCALE:GREGORIAN
METHOD:PUBLISH
X-ORIGINAL-URL:https://ksb-osterholz.de
X-WR-CALDESC:Veranstaltungen für Kreissportbund Osterholz
REFRESH-INTERVAL;VALUE=DURATION:PT1H
X-Robots-Tag:noindex
X-PUBLISHED-TTL:PT1H
BEGIN:VTIMEZONE
TZID:Europe/Berlin
BEGIN:DAYLIGHT
TZOFFSETFROM:+0100
TZOFFSETTO:+0200
TZNAME:CEST
DTSTART:20250330T010000
END:DAYLIGHT
BEGIN:STANDARD
TZOFFSETFROM:+0200
TZOFFSETTO:+0100
TZNAME:CET
DTSTART:20251026T010000
END:STANDARD
BEGIN:DAYLIGHT
TZOFFSETFROM:+0100
TZOFFSETTO:+0200
TZNAME:CEST
DTSTART:20260329T010000
END:DAYLIGHT
BEGIN:STANDARD
TZOFFSETFROM:+0200
TZOFFSETTO:+0100
TZNAME:CET
DTSTART:20261025T010000
END:STANDARD
BEGIN:DAYLIGHT
TZOFFSETFROM:+0100
TZOFFSETTO:+0200
TZNAME:CEST
DTSTART:20270328T010000
END:DAYLIGHT
BEGIN:STANDARD
TZOFFSETFROM:+0200
TZOFFSETTO:+0100
TZNAME:CET
DTSTART:20271031T010000
END:STANDARD
END:VTIMEZONE
BEGIN:VEVENT
DTSTART;VALUE=DATE:20260509
DTEND;VALUE=DATE:20260510
DTSTAMP:20260425T141612
CREATED:20260217T093601Z
LAST-MODIFIED:20260217T093601Z
UID:6362-1778284800-1778371199@ksb-osterholz.de
SUMMARY:Engagementmesse Osterholz-Scharmbeck
DESCRIPTION:Engagementmesse 2026 | Stadt Osterholz-Scharmbeck
URL:https://ksb-osterholz.de/termin/engagementmesse-osterholz-scharmbeck/
END:VEVENT
BEGIN:VEVENT
DTSTART;TZID=Europe/Berlin:20260509T100000
DTEND;TZID=Europe/Berlin:20260509T150000
DTSTAMP:20260425T141612
CREATED:20260416T072637Z
LAST-MODIFIED:20260416T093618Z
UID:6550-1778320800-1778338800@ksb-osterholz.de
SUMMARY:Fortbildung zum Sportabzeichen-Prüfenden
DESCRIPTION:Weitere Infos
URL:https://ksb-osterholz.de/termin/fortbildung-zum-sportabzeichen-pruefenden/
END:VEVENT
BEGIN:VEVENT
DTSTART;TZID=Europe/Berlin:20260520T150000
DTEND;TZID=Europe/Berlin:20260520T180000
DTSTAMP:20260425T141612
CREATED:20260311T092323Z
LAST-MODIFIED:20260311T092323Z
UID:6445-1779289200-1779300000@ksb-osterholz.de
SUMMARY:LQZ - Drums Alive - Kids Beats
DESCRIPTION:Fortbildung zu Drums Alive® -Kids Beats – Kreissportbund Osterholz
URL:https://ksb-osterholz.de/termin/lqz-drums-alive-kids-beats/
END:VEVENT
BEGIN:VEVENT
DTSTART;TZID=Europe/Berlin:20260605T133000
DTEND;TZID=Europe/Berlin:20260605T153000
DTSTAMP:20260425T141612
CREATED:20260223T090846Z
LAST-MODIFIED:20260223T090846Z
UID:6413-1780666200-1780673400@ksb-osterholz.de
SUMMARY:KSB Sportabzeichentag in Ritterhude
DESCRIPTION:Sportabzeichentag – Kreissportbund Osterholz
URL:https://ksb-osterholz.de/termin/ksb-sportabzeichentag-in-ritterhude/
END:VEVENT
BEGIN:VEVENT
DTSTART;VALUE=DATE:20260613
DTEND;VALUE=DATE:20260622
DTSTAMP:20260425T141612
CREATED:20260311T093709Z
LAST-MODIFIED:20260311T093709Z
UID:6449-1781308800-1782086399@ksb-osterholz.de
SUMMARY:Schwimmabzeichentage 2026
DESCRIPTION:Alle Infos: Schwimmabzeichentage
URL:https://ksb-osterholz.de/termin/schwimmabzeichentage-2026/
END:VEVENT
END:VCALENDAR